BEGIN:VCALENDAR
VERSION:2.0
PRODID:-//Chanco on the James - ECPv6.15.15//NONSGML v1.0//EN
CALSCALE:GREGORIAN
METHOD:PUBLISH
X-WR-CALNAME:Chanco on the James
X-ORIGINAL-URL:https://chanco.org
X-WR-CALDESC:Events for Chanco on the James
REFRESH-INTERVAL;VALUE=DURATION:PT1H
X-Robots-Tag:noindex
X-PUBLISHED-TTL:PT1H
BEGIN:VTIMEZONE
TZID:America/New_York
BEGIN:DAYLIGHT
TZOFFSETFROM:-0500
TZOFFSETTO:-0400
TZNAME:EDT
DTSTART:20240310T070000
END:DAYLIGHT
BEGIN:STANDARD
TZOFFSETFROM:-0400
TZOFFSETTO:-0500
TZNAME:EST
DTSTART:20241103T060000
END:STANDARD
BEGIN:DAYLIGHT
TZOFFSETFROM:-0500
TZOFFSETTO:-0400
TZNAME:EDT
DTSTART:20250309T070000
END:DAYLIGHT
BEGIN:STANDARD
TZOFFSETFROM:-0400
TZOFFSETTO:-0500
TZNAME:EST
DTSTART:20251102T060000
END:STANDARD
BEGIN:DAYLIGHT
TZOFFSETFROM:-0500
TZOFFSETTO:-0400
TZNAME:EDT
DTSTART:20260308T070000
END:DAYLIGHT
BEGIN:STANDARD
TZOFFSETFROM:-0400
TZOFFSETTO:-0500
TZNAME:EST
DTSTART:20261101T060000
END:STANDARD
END:VTIMEZONE
BEGIN:VEVENT
DTSTART;TZID=America/New_York:20251031T080000
DTEND;TZID=America/New_York:20251102T170000
DTSTAMP:20260422T050453
CREATED:20251009T133435Z
LAST-MODIFIED:20251009T172232Z
UID:33047-1761897600-1762102800@chanco.org
SUMMARY:Diocesan Fall College Ministries Retreat
DESCRIPTION:Canterbury students from across the diocese have an opportunity to gather for a\nweekend of community\, rest\, reflection\, fun and worship October 31 – November 2\nat Chanco on the James. \nParticipants will have an opportunity to connect with other Canterbury students\nand can try their hand at archery\, the zip line\, and the ropes course. \nContact Canon Lynn Farlin at lfarlin@diosova.org with any questions. \nClick the button below to register! \nRegister Now
URL:https://chanco.org/event/fall-college-ministries-retreat/
LOCATION:Chanco on the James\, 394 Floods Drive\, Spring Grove\, VA\, 23881\, United States
CATEGORIES:PRIVATE,RETREATS
ORGANIZER;CN="Chanco on the James":MAILTO:hospitality@chanco.org
END:VEVENT
END:VCALENDAR