BEGIN:VCALENDAR
VERSION:2.0
PRODID:-//Chanco on the James - ECPv6.15.15//NONSGML v1.0//EN
CALSCALE:GREGORIAN
METHOD:PUBLISH
X-WR-CALNAME:Chanco on the James
X-ORIGINAL-URL:https://chanco.org
X-WR-CALDESC:Events for Chanco on the James
REFRESH-INTERVAL;VALUE=DURATION:PT1H
X-Robots-Tag:noindex
X-PUBLISHED-TTL:PT1H
BEGIN:VTIMEZONE
TZID:America/New_York
BEGIN:DAYLIGHT
TZOFFSETFROM:-0500
TZOFFSETTO:-0400
TZNAME:EDT
DTSTART:20190310T070000
END:DAYLIGHT
BEGIN:STANDARD
TZOFFSETFROM:-0400
TZOFFSETTO:-0500
TZNAME:EST
DTSTART:20191103T060000
END:STANDARD
BEGIN:DAYLIGHT
TZOFFSETFROM:-0500
TZOFFSETTO:-0400
TZNAME:EDT
DTSTART:20200308T070000
END:DAYLIGHT
BEGIN:STANDARD
TZOFFSETFROM:-0400
TZOFFSETTO:-0500
TZNAME:EST
DTSTART:20201101T060000
END:STANDARD
BEGIN:DAYLIGHT
TZOFFSETFROM:-0500
TZOFFSETTO:-0400
TZNAME:EDT
DTSTART:20210314T070000
END:DAYLIGHT
BEGIN:STANDARD
TZOFFSETFROM:-0400
TZOFFSETTO:-0500
TZNAME:EST
DTSTART:20211107T060000
END:STANDARD
END:VTIMEZONE
BEGIN:VEVENT
DTSTART;VALUE=DATE:20200610
DTEND;VALUE=DATE:20200901
DTSTAMP:20260420T110722
CREATED:20200611T044017Z
LAST-MODIFIED:20200611T044017Z
UID:28093-1591747200-1598918399@chanco.org
SUMMARY:Summer Getaways at Chanco
DESCRIPTION:Chanco is now open for families! Join us at Chanco for a waterfront respite with your household. Contact our Administrative Coordinator Marjorie to reserve your summer getaway experience: (888) 724-2626 or hospitality@chanco.org. Click here for a summer getaway reservation request form. \nChanco will not be offering meals\, but will provide menus for local restaurants. Click here for a document of area restaurants and menus. \nOn-site\, guests may enjoy kayaking\, canoeing\, and paddleboarding\, or fishing from along the beach. Plan to enjoy (in groups of 10 or less): Nature hikes\, campfires\, and outdoor games (Chanco is unable to provide any recreational equipment\, but our basketball court\, gaga ball pit\, 9-square-in-the-air\, and volleyball court are available for use\, so feel free to bring your own ball and utilize those spaces!). If you would like to bring your own self-propelled boat\, you are welcome to do so\, to use during your designated boating times. Please keep in mind that Chanco does not have vehicle access to the waterfront so you would need to be comfortable walking your boat down to the river. Click here for our Welcome to Chanco Summer Getaways packet with more information. with more information. Click here for our Summer Getaways COVID-19 policies and help sheet. Click here for the Summer Getaways Covenant. \nWiFi (which can be sporadic — consider downloading games and videos ahead of your visit) and the Chanco Store will be available. \nPlan to Bring: Clothing and personal items\, as well as a pillow\, sporting equipment\, food\, flashlight with working batteries\, toiletries\, sturdy walking shoes\, insect repellant\, First Aid Kit\, cooler\, ice\, and sunblock. Click here for a complete suggested packing list. \nPlease note that we are operating as NO CONTACT for payment\, check-in\, and check-out. Payment is due prior to your arrival. Pets and Emotional Support Animals are not allowed. Service dogs that have been individually trained to do work or perform tasks for an individual with a disability are allowed. We request a ten-day prior notice of your need to bring your service dog. if pre-arranged. Click here for Pet Board Services.
URL:https://chanco.org/event/family-camping-at-chanco-2/
LOCATION:VA
CATEGORIES:CAMPS,EVENTS,RETREATS
END:VEVENT
BEGIN:VEVENT
DTSTART;VALUE=DATE:20200605
DTEND;VALUE=DATE:20200609
DTSTAMP:20260420T110722
CREATED:20191205T173208Z
LAST-MODIFIED:20191205T173208Z
UID:26704-1591315200-1591660799@chanco.org
SUMMARY:Camp Fi Virginia
DESCRIPTION:Private Event: Chanco is pleased to have the opportunity to offer our famous hospitality of friendship\, love\, and spirit to Camp Fi Virginia. \nWant to book your next event with us? \nDownload Guest Planning Guide
URL:https://chanco.org/event/camp-fi-virginia-2/
LOCATION:Chanco on the James\, 394 Floods Drive\, Spring Grove\, VA\, 23881\, United States
CATEGORIES:PRIVATE
END:VEVENT
BEGIN:VEVENT
DTSTART;VALUE=DATE:20200605
DTEND;VALUE=DATE:20200609
DTSTAMP:20260420T110722
CREATED:20191205T173208Z
LAST-MODIFIED:20191205T173208Z
UID:28089-1591315200-1591660799@chanco.org
SUMMARY:Camp Fi Virginia
DESCRIPTION:Private Event: Chanco is pleased to have the opportunity to offer our famous hospitality of friendship\, love\, and spirit to Camp Fi Virginia. \nWant to book your next event with us? \nDownload Guest Planning Guide
URL:https://chanco.org/event/camp-fi-virginia-2-2/
LOCATION:Chanco on the James\, 394 Floods Drive\, Spring Grove\, VA\, 23881\, United States
CATEGORIES:PRIVATE
END:VEVENT
BEGIN:VEVENT
DTSTART;VALUE=DATE:20200529
DTEND;VALUE=DATE:20200601
DTSTAMP:20260420T110722
CREATED:20191205T172925Z
LAST-MODIFIED:20191205T172925Z
UID:26702-1590710400-1590969599@chanco.org
SUMMARY:Camp Fi Virginia
DESCRIPTION:Private Event: Chanco is pleased to have the opportunity to offer our famous hospitality of friendship\, love\, and spirit to the Camp Fi Virginia. \nWant to book your next event with us? \nDownload Guest Planning Guide
URL:https://chanco.org/event/camp-fi-virginia/
LOCATION:Chanco on the James\, 394 Floods Drive\, Spring Grove\, VA\, 23881\, United States
CATEGORIES:PRIVATE
END:VEVENT
BEGIN:VEVENT
DTSTART;VALUE=DATE:20200529
DTEND;VALUE=DATE:20200601
DTSTAMP:20260420T110722
CREATED:20191205T172925Z
LAST-MODIFIED:20191205T172925Z
UID:28088-1590710400-1590969599@chanco.org
SUMMARY:Camp Fi Virginia
DESCRIPTION:Private Event: Chanco is pleased to have the opportunity to offer our famous hospitality of friendship\, love\, and spirit to the Camp Fi Virginia. \nWant to book your next event with us? \nDownload Guest Planning Guide
URL:https://chanco.org/event/camp-fi-virginia-4/
LOCATION:Chanco on the James\, 394 Floods Drive\, Spring Grove\, VA\, 23881\, United States
CATEGORIES:PRIVATE
END:VEVENT
BEGIN:VEVENT
DTSTART;VALUE=DATE:20200508
DTEND;VALUE=DATE:20200511
DTSTAMP:20260420T110722
CREATED:20191205T172738Z
LAST-MODIFIED:20191205T172738Z
UID:26698-1588896000-1589155199@chanco.org
SUMMARY:Emmanuel Parish Retreat
DESCRIPTION:Private Event: Chanco is pleased to have the opportunity to offer our famous hospitality of friendship\, love\, and spirit to the Emmanuel Parish Retreat. \nWant to book your next event with us? \nDownload Guest Planning Guide
URL:https://chanco.org/event/emmanuel-parish-retreat/
LOCATION:Chanco on the James\, 394 Floods Drive\, Spring Grove\, VA\, 23881\, United States
CATEGORIES:PRIVATE
END:VEVENT
BEGIN:VEVENT
DTSTART;VALUE=DATE:20200508
DTEND;VALUE=DATE:20200511
DTSTAMP:20260420T110722
CREATED:20191205T172738Z
LAST-MODIFIED:20191205T172738Z
UID:28087-1588896000-1589155199@chanco.org
SUMMARY:Emmanuel Parish Retreat
DESCRIPTION:Private Event: Chanco is pleased to have the opportunity to offer our famous hospitality of friendship\, love\, and spirit to the Emmanuel Parish Retreat. \nWant to book your next event with us? \nDownload Guest Planning Guide
URL:https://chanco.org/event/emmanuel-parish-retreat-2/
LOCATION:Chanco on the James\, 394 Floods Drive\, Spring Grove\, VA\, 23881\, United States
CATEGORIES:PRIVATE
END:VEVENT
BEGIN:VEVENT
DTSTART;TZID=America/New_York:20200503T140000
DTEND;TZID=America/New_York:20200503T150000
DTSTAMP:20260420T110722
CREATED:20200502T040142Z
LAST-MODIFIED:20200506T034356Z
UID:27029-1588514400-1588518000@chanco.org
SUMMARY:Virtual Open House
DESCRIPTION:Even though we can’t currently gather together at Chanco in person\, we have something for you ALMOST as fantastic! Join us virtually at Chanco where you will climb to the top of our new ropes element and look down on the tops of trees! Fly along a zip line as if you were there! Sail with us on the James River! \nTake a tour of Chanco on the James:\n\n\n\n\n﻿\n﻿\n﻿\n\n\n\n\n\n\n\n\n\n\n\n\n\n﻿
URL:https://chanco.org/event/virtual-open-house/
LOCATION:Chanco on the James\, 394 Floods Drive\, Spring Grove\, VA\, 23881\, United States
CATEGORIES:EVENTS
END:VEVENT
BEGIN:VEVENT
DTSTART;TZID=America/New_York:20200503T140000
DTEND;TZID=America/New_York:20200503T150000
DTSTAMP:20260420T110722
CREATED:20200502T040142Z
LAST-MODIFIED:20200502T040142Z
UID:28092-1588514400-1588518000@chanco.org
SUMMARY:Virtual Open House
DESCRIPTION:Even though we can’t currently gather together at Chanco in person\, we have something for you ALMOST as fantastic! Join us virtually at Chanco where you will climb to the top of our new ropes element and look down on the tops of trees! Fly along a zip line as if you were there! Sail with us on the James River! \nTake a tour of Chanco on the James:\n\n\n\n\n﻿\n﻿\n﻿\n\n\n\n\n\n\n\n\n\n\n\n\n\n﻿
URL:https://chanco.org/event/virtual-open-house-2/
LOCATION:Chanco on the James\, 394 Floods Drive\, Spring Grove\, VA\, 23881\, United States
CATEGORIES:EVENTS
END:VEVENT
BEGIN:VEVENT
DTSTART;VALUE=DATE:20200411
DTEND;VALUE=DATE:20200412
DTSTAMP:20260420T110722
CREATED:20200402T155026Z
LAST-MODIFIED:20200402T155026Z
UID:26968-1586563200-1586649599@chanco.org
SUMMARY:Easter Vigil on the Bluff
DESCRIPTION:The Rev. Eileen Walsh will be officiating a special virtual/electronic Easter Vigil on the bluff on April 11th. The Easter Vigil is one of the oldest liturgies in the church. This electronic service will involve readings that tell the history of salvation\, music\, the lighting of the Pascal candle and other candles\, the ringing of bells\, and the joyous celebration of the resurrection! Join the Rev. Eileen Walsh for a special electronic Easter Vigil at Chanco on Saturday\, April 11th at 8 pm via our Facebook page here.
URL:https://chanco.org/event/easter-vigil-on-the-bluff/
LOCATION:VA
CATEGORIES:EVENTS
ORGANIZER;CN="Chanco on the James":MAILTO:hospitality@chanco.org
END:VEVENT
BEGIN:VEVENT
DTSTART;VALUE=DATE:20200411
DTEND;VALUE=DATE:20200412
DTSTAMP:20260420T110722
CREATED:20200402T155026Z
LAST-MODIFIED:20200402T155026Z
UID:28091-1586563200-1586649599@chanco.org
SUMMARY:Easter Vigil on the Bluff
DESCRIPTION:The Rev. Eileen Walsh will be officiating a special virtual/electronic Easter Vigil on the bluff on April 11th. The Easter Vigil is one of the oldest liturgies in the church. This electronic service will involve readings that tell the history of salvation\, music\, the lighting of the Pascal candle and other candles\, the ringing of bells\, and the joyous celebration of the resurrection! Join the Rev. Eileen Walsh for a special electronic Easter Vigil at Chanco on Saturday\, April 11th at 8 pm via our Facebook page here.
URL:https://chanco.org/event/easter-vigil-on-the-bluff-2/
LOCATION:VA
CATEGORIES:EVENTS
ORGANIZER;CN="Chanco on the James":MAILTO:hospitality@chanco.org
END:VEVENT
BEGIN:VEVENT
DTSTART;TZID=America/New_York:20200402T170000
DTEND;TZID=America/New_York:20200402T180000
DTSTAMP:20260420T110722
CREATED:20200331T161512Z
LAST-MODIFIED:20200331T161512Z
UID:28090-1585846800-1585850400@chanco.org
SUMMARY:EYC Funky Hat Zoom Party!
DESCRIPTION:We are saddened by the update from Governor Northman\, which has required us to indeed cancel May Weekend.  While it is unfortunate that we will not be able to gather at Chanco together\, our hope is to still stay in community.  This Thursday\, April 1 at 5pm\, the EYC Board will be hosting a virtual hangout for the youth of the Diocese through Zoom.  It will be an opportunity for youth to come together to talk about their experience during this time and get to know one another a little better.  As a sort of show and tell\, we are asking folks to wear a funky hat that they own or one that has a fun story behind it.  \nWe hope to see you at our Funky Hat Zoom Party!  https://zoom.us/j/755478434
URL:https://chanco.org/event/eyc-funky-hat-zoom-party-2/
LOCATION:VA
CATEGORIES:PRIVATE
END:VEVENT
BEGIN:VEVENT
DTSTART;TZID=America/New_York:20200402T170000
DTEND;TZID=America/New_York:20200402T180000
DTSTAMP:20260420T110722
CREATED:20200331T161512Z
LAST-MODIFIED:20200331T161512Z
UID:26956-1585846800-1585850400@chanco.org
SUMMARY:EYC Funky Hat Zoom Party!
DESCRIPTION:We are saddened by the update from Governor Northman\, which has required us to indeed cancel May Weekend.  While it is unfortunate that we will not be able to gather at Chanco together\, our hope is to still stay in community.  This Thursday\, April 1 at 5pm\, the EYC Board will be hosting a virtual hangout for the youth of the Diocese through Zoom.  It will be an opportunity for youth to come together to talk about their experience during this time and get to know one another a little better.  As a sort of show and tell\, we are asking folks to wear a funky hat that they own or one that has a fun story behind it.  \nWe hope to see you at our Funky Hat Zoom Party!  https://zoom.us/j/755478434
URL:https://chanco.org/event/eyc-funky-hat-zoom-party/
LOCATION:VA
CATEGORIES:PRIVATE
END:VEVENT
BEGIN:VEVENT
DTSTART;VALUE=DATE:20200221
DTEND;VALUE=DATE:20200224
DTSTAMP:20260420T110722
CREATED:20191205T170419Z
LAST-MODIFIED:20191205T170419Z
UID:26674-1582243200-1582502399@chanco.org
SUMMARY:Christ the Redeemer Women's Retreat
DESCRIPTION:Private Event: Chanco is pleased to have the opportunity to offer our famous hospitality of friendship\, love\, and spirit to the Christ the Redeemer Women’s Retreat. \nWant to book your next event with us? \nDownload Guest Planning Guide
URL:https://chanco.org/event/christ-the-redeemer-womens-retreat/
LOCATION:Chanco on the James\, 394 Floods Drive\, Spring Grove\, VA\, 23881\, United States
CATEGORIES:PRIVATE
END:VEVENT
BEGIN:VEVENT
DTSTART;VALUE=DATE:20200221
DTEND;VALUE=DATE:20200224
DTSTAMP:20260420T110722
CREATED:20191205T170419Z
LAST-MODIFIED:20191205T170419Z
UID:28086-1582243200-1582502399@chanco.org
SUMMARY:Christ the Redeemer Women's Retreat
DESCRIPTION:Private Event: Chanco is pleased to have the opportunity to offer our famous hospitality of friendship\, love\, and spirit to the Christ the Redeemer Women’s Retreat. \nWant to book your next event with us? \nDownload Guest Planning Guide
URL:https://chanco.org/event/christ-the-redeemer-womens-retreat-2/
LOCATION:Chanco on the James\, 394 Floods Drive\, Spring Grove\, VA\, 23881\, United States
CATEGORIES:PRIVATE
END:VEVENT
BEGIN:VEVENT
DTSTART;VALUE=DATE:20200207
DTEND;VALUE=DATE:20200209
DTSTAMP:20260420T110722
CREATED:20191205T170314Z
LAST-MODIFIED:20191205T170314Z
UID:28085-1581033600-1581206399@chanco.org
SUMMARY:Rotary District 7600 Retreat
DESCRIPTION:Private Event: Chanco is pleased to have the opportunity to offer our famous hospitality of friendship\, love\, and spirit to the Rotary District 7600 team training seminar. \nWant to book your next event with us? \nDownload Guest Planning Guide
URL:https://chanco.org/event/rotary-district-7600-retreat-2/
LOCATION:Chanco on the James\, 394 Floods Drive\, Spring Grove\, VA\, 23881\, United States
CATEGORIES:PRIVATE
END:VEVENT
BEGIN:VEVENT
DTSTART;VALUE=DATE:20200207
DTEND;VALUE=DATE:20200209
DTSTAMP:20260420T110722
CREATED:20191205T170314Z
LAST-MODIFIED:20191205T170314Z
UID:26672-1581033600-1581206399@chanco.org
SUMMARY:Rotary District 7600 Retreat
DESCRIPTION:Private Event: Chanco is pleased to have the opportunity to offer our famous hospitality of friendship\, love\, and spirit to the Rotary District 7600 team training seminar. \nWant to book your next event with us? \nDownload Guest Planning Guide
URL:https://chanco.org/event/rotary-district-7600-retreat/
LOCATION:Chanco on the James\, 394 Floods Drive\, Spring Grove\, VA\, 23881\, United States
CATEGORIES:PRIVATE
END:VEVENT
BEGIN:VEVENT
DTSTART;VALUE=DATE:20200131
DTEND;VALUE=DATE:20200203
DTSTAMP:20260420T110722
CREATED:20191205T170113Z
LAST-MODIFIED:20191205T170113Z
UID:28083-1580428800-1580687999@chanco.org
SUMMARY:St. Augustine Confirmation Retreat
DESCRIPTION:Private Event: Chanco is pleased to have the opportunity to offer our famous hospitality of friendship\, love\, and spirit to the St. Augustine Confirmation Retreat. \nWant to book your next event with us? \nDownload Guest Planning Guide
URL:https://chanco.org/event/st-augustine-confirmation-retreat-2-2/
LOCATION:Chanco on the James\, 394 Floods Drive\, Spring Grove\, VA\, 23881\, United States
CATEGORIES:PRIVATE
END:VEVENT
BEGIN:VEVENT
DTSTART;VALUE=DATE:20200131
DTEND;VALUE=DATE:20200203
DTSTAMP:20260420T110722
CREATED:20191205T170113Z
LAST-MODIFIED:20191205T170113Z
UID:26668-1580428800-1580687999@chanco.org
SUMMARY:St. Augustine Confirmation Retreat
DESCRIPTION:Private Event: Chanco is pleased to have the opportunity to offer our famous hospitality of friendship\, love\, and spirit to the St. Augustine Confirmation Retreat. \nWant to book your next event with us? \nDownload Guest Planning Guide
URL:https://chanco.org/event/st-augustine-confirmation-retreat-2/
LOCATION:Chanco on the James\, 394 Floods Drive\, Spring Grove\, VA\, 23881\, United States
CATEGORIES:PRIVATE
END:VEVENT
BEGIN:VEVENT
DTSTART;VALUE=DATE:20200131
DTEND;VALUE=DATE:20200202
DTSTAMP:20260420T110722
CREATED:20191205T170205Z
LAST-MODIFIED:20191205T170205Z
UID:26670-1580428800-1580601599@chanco.org
SUMMARY:St. Jerome Confirmation Retreat
DESCRIPTION:Private Event: Chanco is pleased to have the opportunity to offer our famous hospitality of friendship\, love\, and spirit to the St. Jerome Confirmation Retreat. \nWant to book your next event with us? \nDownload Guest Planning Guide
URL:https://chanco.org/event/st-jerome-confirmation-retreat-2/
LOCATION:Chanco on the James\, 394 Floods Drive\, Spring Grove\, VA\, 23881\, United States
CATEGORIES:PRIVATE
END:VEVENT
BEGIN:VEVENT
DTSTART;VALUE=DATE:20200131
DTEND;VALUE=DATE:20200202
DTSTAMP:20260420T110722
CREATED:20191205T170205Z
LAST-MODIFIED:20191205T170205Z
UID:28084-1580428800-1580601599@chanco.org
SUMMARY:St. Jerome Confirmation Retreat
DESCRIPTION:Private Event: Chanco is pleased to have the opportunity to offer our famous hospitality of friendship\, love\, and spirit to the St. Jerome Confirmation Retreat. \nWant to book your next event with us? \nDownload Guest Planning Guide
URL:https://chanco.org/event/st-jerome-confirmation-retreat-2-2/
LOCATION:Chanco on the James\, 394 Floods Drive\, Spring Grove\, VA\, 23881\, United States
CATEGORIES:PRIVATE
END:VEVENT
BEGIN:VEVENT
DTSTART;VALUE=DATE:20200124
DTEND;VALUE=DATE:20200226
DTSTAMP:20260420T110722
CREATED:20191205T165925Z
LAST-MODIFIED:20191205T165925Z
UID:26664-1579824000-1582675199@chanco.org
SUMMARY:St. Paul's Norfolk Vestry Retreat
DESCRIPTION:Private Event: Chanco is pleased to have the opportunity to offer our famous hospitality of friendship\, love\, and spirit to the St. Paul’s (Norfolk) Vestry. \nWant to book your next event with us? \nDownload Guest Planning Guide
URL:https://chanco.org/event/st-pauls-norfolk-vestry-retreat/
LOCATION:Chanco on the James\, 394 Floods Drive\, Spring Grove\, VA\, 23881\, United States
CATEGORIES:PRIVATE
END:VEVENT
BEGIN:VEVENT
DTSTART;VALUE=DATE:20200124
DTEND;VALUE=DATE:20200226
DTSTAMP:20260420T110722
CREATED:20191205T165925Z
LAST-MODIFIED:20191205T165925Z
UID:28081-1579824000-1582675199@chanco.org
SUMMARY:St. Paul's Norfolk Vestry Retreat
DESCRIPTION:Private Event: Chanco is pleased to have the opportunity to offer our famous hospitality of friendship\, love\, and spirit to the St. Paul’s (Norfolk) Vestry. \nWant to book your next event with us? \nDownload Guest Planning Guide
URL:https://chanco.org/event/st-pauls-norfolk-vestry-retreat-2/
LOCATION:Chanco on the James\, 394 Floods Drive\, Spring Grove\, VA\, 23881\, United States
CATEGORIES:PRIVATE
END:VEVENT
BEGIN:VEVENT
DTSTART;VALUE=DATE:20200124
DTEND;VALUE=DATE:20200127
DTSTAMP:20260420T110722
CREATED:20191205T170019Z
LAST-MODIFIED:20191205T170019Z
UID:26666-1579824000-1580083199@chanco.org
SUMMARY:All Saint's Vestry Retreat
DESCRIPTION:Private Event: Chanco is pleased to have the opportunity to offer our famous hospitality of friendship\, love\, and spirit to the All Saint’s Vestry. \nWant to book your next event with us? \nDownload Guest Planning Guide
URL:https://chanco.org/event/all-saints-vestry-retreat/
LOCATION:Chanco on the James\, 394 Floods Drive\, Spring Grove\, VA\, 23881\, United States
CATEGORIES:PRIVATE
END:VEVENT
BEGIN:VEVENT
DTSTART;VALUE=DATE:20200124
DTEND;VALUE=DATE:20200127
DTSTAMP:20260420T110722
CREATED:20191205T170019Z
LAST-MODIFIED:20191205T170019Z
UID:28082-1579824000-1580083199@chanco.org
SUMMARY:All Saint's Vestry Retreat
DESCRIPTION:Private Event: Chanco is pleased to have the opportunity to offer our famous hospitality of friendship\, love\, and spirit to the All Saint’s Vestry. \nWant to book your next event with us? \nDownload Guest Planning Guide
URL:https://chanco.org/event/all-saints-vestry-retreat-2/
LOCATION:Chanco on the James\, 394 Floods Drive\, Spring Grove\, VA\, 23881\, United States
CATEGORIES:PRIVATE
END:VEVENT
BEGIN:VEVENT
DTSTART;VALUE=DATE:20200117
DTEND;VALUE=DATE:20200120
DTSTAMP:20260420T110722
CREATED:20191205T165808Z
LAST-MODIFIED:20191230T050712Z
UID:26661-1579219200-1579478399@chanco.org
SUMMARY:Winter Camp
DESCRIPTION:This fun-filled weekend is perfect for kids who are missing some Chanco sunshine or for first-timers who want to see if camp is a good fit for them. \n\nFor Ages 7-12\nFee: $125\nRegister here or by calling the office at 757-294-3126\n\nThis weekend features:\n– Zip Lines\n– Archery\n– Awesome Counselors\n– Giant Bonfire!\n– Skits\n– GaGa\n– Food\n– Game\n– Friends\n– Music\n– Worship! \nQuestions? Email Nathan Hoyt at programs@chanco.org.
URL:https://chanco.org/event/winter-camp-2020/
LOCATION:Chanco on the James\, 394 Floods Drive\, Spring Grove\, VA\, 23881\, United States
CATEGORIES:EVENTS
END:VEVENT
BEGIN:VEVENT
DTSTART;VALUE=DATE:20200117
DTEND;VALUE=DATE:20200120
DTSTAMP:20260420T110722
CREATED:20191205T165808Z
LAST-MODIFIED:20191205T165808Z
UID:28080-1579219200-1579478399@chanco.org
SUMMARY:Winter Camp
DESCRIPTION:This fun-filled weekend is perfect for kids who are missing some Chanco sunshine or for first-timers who want to see if camp is a good fit for them. \n\nFor Ages 7-12\nFee: $125\nRegister here or by calling the office at 757-294-3126\n\nThis weekend features:\n– Zip Lines\n– Archery\n– Awesome Counselors\n– Giant Bonfire!\n– Skits\n– GaGa\n– Food\n– Game\n– Friends\n– Music\n– Worship! \nQuestions? Email Nathan Hoyt at programs@chanco.org.
URL:https://chanco.org/event/winter-camp-2020-2/
LOCATION:Chanco on the James\, 394 Floods Drive\, Spring Grove\, VA\, 23881\, United States
CATEGORIES:EVENTS
END:VEVENT
BEGIN:VEVENT
DTSTART;VALUE=DATE:20200110
DTEND;VALUE=DATE:20200113
DTSTAMP:20260420T110722
CREATED:20191205T165624Z
LAST-MODIFIED:20191205T165624Z
UID:26659-1578614400-1578873599@chanco.org
SUMMARY:Deacon's School
DESCRIPTION:Private Event: Chanco is pleased to have the opportunity to offer our famous hospitality of friendship\, love\, and spirit to the Deacon’s School \nWant to book your next event with us? \nDownload Guest Planning Guide
URL:https://chanco.org/event/deacons-school-3/
LOCATION:Chanco on the James\, 394 Floods Drive\, Spring Grove\, VA\, 23881\, United States
CATEGORIES:PRIVATE
END:VEVENT
BEGIN:VEVENT
DTSTART;VALUE=DATE:20200110
DTEND;VALUE=DATE:20200113
DTSTAMP:20260420T110722
CREATED:20191205T165624Z
LAST-MODIFIED:20191205T165624Z
UID:28079-1578614400-1578873599@chanco.org
SUMMARY:Deacon's School
DESCRIPTION:Private Event: Chanco is pleased to have the opportunity to offer our famous hospitality of friendship\, love\, and spirit to the Deacon’s School \nWant to book your next event with us? \nDownload Guest Planning Guide
URL:https://chanco.org/event/deacons-school-3-2/
LOCATION:Chanco on the James\, 394 Floods Drive\, Spring Grove\, VA\, 23881\, United States
CATEGORIES:PRIVATE
END:VEVENT
BEGIN:VEVENT
DTSTART;VALUE=DATE:20200110
DTEND;VALUE=DATE:20200112
DTSTAMP:20260420T110722
CREATED:20191205T165030Z
LAST-MODIFIED:20191205T165030Z
UID:26657-1578614400-1578787199@chanco.org
SUMMARY:Cursillo Secretariat
DESCRIPTION:Private Event: Chanco is pleased to have the opportunity to offer our famous hospitality of friendship\, love\, and spirit to the Cursillo Secretariat. \nWant to book your next event with us? \nDownload Guest Planning Guide\n 
URL:https://chanco.org/event/cursillo-secretariat-2/
LOCATION:Chanco on the James\, 394 Floods Drive\, Spring Grove\, VA\, 23881\, United States
CATEGORIES:PRIVATE
END:VEVENT
END:VCALENDAR