BEGIN:VCALENDAR
VERSION:2.0
PRODID:-//Chanco on the James - ECPv6.15.15//NONSGML v1.0//EN
CALSCALE:GREGORIAN
METHOD:PUBLISH
X-WR-CALNAME:Chanco on the James
X-ORIGINAL-URL:https://chanco.org
X-WR-CALDESC:Events for Chanco on the James
REFRESH-INTERVAL;VALUE=DURATION:PT1H
X-Robots-Tag:noindex
X-PUBLISHED-TTL:PT1H
BEGIN:VTIMEZONE
TZID:America/New_York
BEGIN:DAYLIGHT
TZOFFSETFROM:-0500
TZOFFSETTO:-0400
TZNAME:EDT
DTSTART:20180311T070000
END:DAYLIGHT
BEGIN:STANDARD
TZOFFSETFROM:-0400
TZOFFSETTO:-0500
TZNAME:EST
DTSTART:20181104T060000
END:STANDARD
BEGIN:DAYLIGHT
TZOFFSETFROM:-0500
TZOFFSETTO:-0400
TZNAME:EDT
DTSTART:20190310T070000
END:DAYLIGHT
BEGIN:STANDARD
TZOFFSETFROM:-0400
TZOFFSETTO:-0500
TZNAME:EST
DTSTART:20191103T060000
END:STANDARD
BEGIN:DAYLIGHT
TZOFFSETFROM:-0500
TZOFFSETTO:-0400
TZNAME:EDT
DTSTART:20200308T070000
END:DAYLIGHT
BEGIN:STANDARD
TZOFFSETFROM:-0400
TZOFFSETTO:-0500
TZNAME:EST
DTSTART:20201101T060000
END:STANDARD
END:VTIMEZONE
BEGIN:VTIMEZONE
TZID:America/Halifax
BEGIN:DAYLIGHT
TZOFFSETFROM:-0400
TZOFFSETTO:-0300
TZNAME:ADT
DTSTART:20180311T060000
END:DAYLIGHT
BEGIN:STANDARD
TZOFFSETFROM:-0300
TZOFFSETTO:-0400
TZNAME:AST
DTSTART:20181104T050000
END:STANDARD
BEGIN:DAYLIGHT
TZOFFSETFROM:-0400
TZOFFSETTO:-0300
TZNAME:ADT
DTSTART:20190310T060000
END:DAYLIGHT
BEGIN:STANDARD
TZOFFSETFROM:-0300
TZOFFSETTO:-0400
TZNAME:AST
DTSTART:20191103T050000
END:STANDARD
BEGIN:DAYLIGHT
TZOFFSETFROM:-0400
TZOFFSETTO:-0300
TZNAME:ADT
DTSTART:20200308T060000
END:DAYLIGHT
BEGIN:STANDARD
TZOFFSETFROM:-0300
TZOFFSETTO:-0400
TZNAME:AST
DTSTART:20201101T050000
END:STANDARD
END:VTIMEZONE
BEGIN:VEVENT
DTSTART;VALUE=DATE:20190502
DTEND;VALUE=DATE:20190506
DTSTAMP:20260421T014223
CREATED:20190506T100901Z
LAST-MODIFIED:20190506T100901Z
UID:26264-1556755200-1557100799@chanco.org
SUMMARY:Cursillo Spring Co-ed Weekend
DESCRIPTION:Chanco is pleased to have the opportunity to offer our famous hospitality of friendship\, love\, and spirit to the Cursillo Spring Co-ed Weekend. \nWant to book your next event with us? Click here for more information or download your guest planning guide today. \nDownload Guest Planning Guide
URL:https://chanco.org/event/cursillo-spring-co-ed-weekend/
LOCATION:Chanco on the James\, 394 Floods Drive\, Spring Grove\, VA\, 23881\, United States
CATEGORIES:RETREATS
END:VEVENT
BEGIN:VEVENT
DTSTART;VALUE=DATE:20190502
DTEND;VALUE=DATE:20190506
DTSTAMP:20260421T014223
CREATED:20190506T100901Z
LAST-MODIFIED:20190506T100901Z
UID:28045-1556755200-1557100799@chanco.org
SUMMARY:Cursillo Spring Co-ed Weekend
DESCRIPTION:Chanco is pleased to have the opportunity to offer our famous hospitality of friendship\, love\, and spirit to the Cursillo Spring Co-ed Weekend. \nWant to book your next event with us? Click here for more information or download your guest planning guide today. \nDownload Guest Planning Guide
URL:https://chanco.org/event/cursillo-spring-co-ed-weekend-2/
LOCATION:Chanco on the James\, 394 Floods Drive\, Spring Grove\, VA\, 23881\, United States
CATEGORIES:RETREATS
END:VEVENT
BEGIN:VEVENT
DTSTART;TZID=America/New_York:20190428T140000
DTEND;TZID=America/New_York:20190428T160000
DTSTAMP:20260421T014223
CREATED:20190401T084201Z
LAST-MODIFIED:20190401T084201Z
UID:26200-1556460000-1556467200@chanco.org
SUMMARY:Chanco Day at St Matthias
DESCRIPTION:Join us for our second annual Chanco day! \nThis event is free and open to the public. Come see awesome Camp Chanco can be without leaving your city! \nWe will begin at 2 PM with prayer\, song and some announcements about all the exciting things happening at camp this summer. During this\, we would love to invite youth who have attended Chanco summer camps in the past to say a few words about the impact Chanco has had on them. \nEmail Nathan Hoyt at programs@chanco.org if you are interested in saying a few words) \nAfter our introduction\, we will have several awesome Camp Chanco activities set up for anyone to try out. \nActivities include \n\nGaGa\n9 Square in the Air\nGiant Jenga\nCrafts\nCarnival Games\nAnimal Womp\nSilly Chanco songs\nSkits\n\nAnd more!!!! \nAt the end of the program\, we will raffle of a coupon for 50% off of a two-week session or a free one-week session. (Over a $500 Value) \nWe will have several Camp Chanco summer counselors there to help run the games and supervise youth. Parents are welcome to drop off children over the age of 8 for the duration of the program.
URL:https://chanco.org/event/chanco-day-at-st-matthias/
LOCATION:St. Matthias Episcopal Church\, 11300 W Huguenot Rd\, Midlothian\, VA\, 23113\, United States
CATEGORIES:EVENTS
ORGANIZER;CN="Chanco on the James":MAILTO:hospitality@chanco.org
END:VEVENT
BEGIN:VEVENT
DTSTART;TZID=America/New_York:20190428T140000
DTEND;TZID=America/New_York:20190428T160000
DTSTAMP:20260421T014223
CREATED:20190401T084201Z
LAST-MODIFIED:20190401T084201Z
UID:28035-1556460000-1556467200@chanco.org
SUMMARY:Chanco Day at St Matthias
DESCRIPTION:Join us for our second annual Chanco day! \nThis event is free and open to the public. Come see awesome Camp Chanco can be without leaving your city! \nWe will begin at 2 PM with prayer\, song and some announcements about all the exciting things happening at camp this summer. During this\, we would love to invite youth who have attended Chanco summer camps in the past to say a few words about the impact Chanco has had on them. \nEmail Nathan Hoyt at programs@chanco.org if you are interested in saying a few words) \nAfter our introduction\, we will have several awesome Camp Chanco activities set up for anyone to try out. \nActivities include \n\nGaGa\n9 Square in the Air\nGiant Jenga\nCrafts\nCarnival Games\nAnimal Womp\nSilly Chanco songs\nSkits\n\nAnd more!!!! \nAt the end of the program\, we will raffle of a coupon for 50% off of a two-week session or a free one-week session. (Over a $500 Value) \nWe will have several Camp Chanco summer counselors there to help run the games and supervise youth. Parents are welcome to drop off children over the age of 8 for the duration of the program.
URL:https://chanco.org/event/chanco-day-at-st-matthias-2/
LOCATION:St. Matthias Episcopal Church\, 11300 W Huguenot Rd\, Midlothian\, VA\, 23113\, United States
CATEGORIES:EVENTS
ORGANIZER;CN="Chanco on the James":MAILTO:hospitality@chanco.org
END:VEVENT
BEGIN:VEVENT
DTSTART;VALUE=DATE:20190427
DTEND;VALUE=DATE:20190429
DTSTAMP:20260421T014223
CREATED:20190401T093444Z
LAST-MODIFIED:20190401T093444Z
UID:26226-1556323200-1556495999@chanco.org
SUMMARY:City Church of Richmond Men's Retreat
DESCRIPTION:Private Event \nChanco is pleased to have the opportunity to offer our famous hospitality of friendship\, love\, and spirit to the City Church of Richmond Men’s Retreat. \nWant to book your next event with us? Click here for more information or download your guest planning guide today. \nDownload Guest Planning Guide
URL:https://chanco.org/event/city-church-of-richmond-mens-retreat/
LOCATION:Chanco on the James\, 394 Floods Drive\, Spring Grove\, VA\, 23881\, United States
CATEGORIES:RETREATS
END:VEVENT
BEGIN:VEVENT
DTSTART;VALUE=DATE:20190427
DTEND;VALUE=DATE:20190429
DTSTAMP:20260421T014223
CREATED:20190401T093444Z
LAST-MODIFIED:20190401T093444Z
UID:28043-1556323200-1556495999@chanco.org
SUMMARY:City Church of Richmond Men's Retreat
DESCRIPTION:Private Event \nChanco is pleased to have the opportunity to offer our famous hospitality of friendship\, love\, and spirit to the City Church of Richmond Men’s Retreat. \nWant to book your next event with us? Click here for more information or download your guest planning guide today. \nDownload Guest Planning Guide
URL:https://chanco.org/event/city-church-of-richmond-mens-retreat-2/
LOCATION:Chanco on the James\, 394 Floods Drive\, Spring Grove\, VA\, 23881\, United States
CATEGORIES:RETREATS
END:VEVENT
BEGIN:VEVENT
DTSTART;VALUE=DATE:20190419
DTEND;VALUE=DATE:20190422
DTSTAMP:20260421T014223
CREATED:20190401T093315Z
LAST-MODIFIED:20190401T093315Z
UID:26224-1555632000-1555891199@chanco.org
SUMMARY:Love and Restoration
DESCRIPTION:Private Event \nChanco is pleased to have the opportunity to offer our famous hospitality of friendship\, love\, and spirit to the Love and Restoration event. \nWant to book your next event with us? Click here for more information or download your guest planning guide today. \nDownload Guest Planning Guide
URL:https://chanco.org/event/love-and-restoration/
LOCATION:Chanco on the James\, 394 Floods Drive\, Spring Grove\, VA\, 23881\, United States
CATEGORIES:RETREATS
END:VEVENT
BEGIN:VEVENT
DTSTART;VALUE=DATE:20190419
DTEND;VALUE=DATE:20190422
DTSTAMP:20260421T014223
CREATED:20190401T093315Z
LAST-MODIFIED:20190401T093315Z
UID:28042-1555632000-1555891199@chanco.org
SUMMARY:Love and Restoration
DESCRIPTION:Private Event \nChanco is pleased to have the opportunity to offer our famous hospitality of friendship\, love\, and spirit to the Love and Restoration event. \nWant to book your next event with us? Click here for more information or download your guest planning guide today. \nDownload Guest Planning Guide
URL:https://chanco.org/event/love-and-restoration-2/
LOCATION:Chanco on the James\, 394 Floods Drive\, Spring Grove\, VA\, 23881\, United States
CATEGORIES:RETREATS
END:VEVENT
BEGIN:VEVENT
DTSTART;VALUE=DATE:20190413
DTEND;VALUE=DATE:20190414
DTSTAMP:20260421T014223
CREATED:20190401T093205Z
LAST-MODIFIED:20190401T093205Z
UID:26222-1555113600-1555199999@chanco.org
SUMMARY:Cursillo Team Meeting
DESCRIPTION:Private Event \nChanco is pleased to have the opportunity to offer our famous hospitality of friendship\, love\, and spirit to the Cursillo Team Meeting Event. \nWant to book your next event with us? Click here for more information or download your guest planning guide today. \nDownload Guest Planning Guide
URL:https://chanco.org/event/cursillo-team-meeting/
LOCATION:Chanco on the James\, 394 Floods Drive\, Spring Grove\, VA\, 23881\, United States
CATEGORIES:EVENTS
END:VEVENT
BEGIN:VEVENT
DTSTART;VALUE=DATE:20190413
DTEND;VALUE=DATE:20190414
DTSTAMP:20260421T014223
CREATED:20190401T093205Z
LAST-MODIFIED:20190401T093205Z
UID:28041-1555113600-1555199999@chanco.org
SUMMARY:Cursillo Team Meeting
DESCRIPTION:Private Event \nChanco is pleased to have the opportunity to offer our famous hospitality of friendship\, love\, and spirit to the Cursillo Team Meeting Event. \nWant to book your next event with us? Click here for more information or download your guest planning guide today. \nDownload Guest Planning Guide
URL:https://chanco.org/event/cursillo-team-meeting-2/
LOCATION:Chanco on the James\, 394 Floods Drive\, Spring Grove\, VA\, 23881\, United States
CATEGORIES:EVENTS
END:VEVENT
BEGIN:VEVENT
DTSTART;VALUE=DATE:20190413
DTEND;VALUE=DATE:20190414
DTSTAMP:20260421T014223
CREATED:20190401T092732Z
LAST-MODIFIED:20190401T092732Z
UID:26220-1555113600-1555199999@chanco.org
SUMMARY:Women's Gathering to Glorify God
DESCRIPTION:Private Event \nChanco is pleased to have the opportunity to offer our famous hospitality of friendship\, love\, and spirit to the Women’s Gathering to Glorify God event. \nWant to book your next event with us? Click here for more information or download your guest planning guide today. \nDownload Guest Planning Guide
URL:https://chanco.org/event/womens-gathering-to-glorify-god/
LOCATION:Chanco on the James\, 394 Floods Drive\, Spring Grove\, VA\, 23881\, United States
CATEGORIES:RETREATS
END:VEVENT
BEGIN:VEVENT
DTSTART;VALUE=DATE:20190413
DTEND;VALUE=DATE:20190414
DTSTAMP:20260421T014223
CREATED:20190401T092732Z
LAST-MODIFIED:20190401T092732Z
UID:28040-1555113600-1555199999@chanco.org
SUMMARY:Women's Gathering to Glorify God
DESCRIPTION:Private Event \nChanco is pleased to have the opportunity to offer our famous hospitality of friendship\, love\, and spirit to the Women’s Gathering to Glorify God event. \nWant to book your next event with us? Click here for more information or download your guest planning guide today. \nDownload Guest Planning Guide
URL:https://chanco.org/event/womens-gathering-to-glorify-god-2/
LOCATION:Chanco on the James\, 394 Floods Drive\, Spring Grove\, VA\, 23881\, United States
CATEGORIES:RETREATS
END:VEVENT
BEGIN:VEVENT
DTSTART;VALUE=DATE:20190412
DTEND;VALUE=DATE:20190415
DTSTAMP:20260421T014223
CREATED:20190401T092551Z
LAST-MODIFIED:20190401T092551Z
UID:26218-1555027200-1555286399@chanco.org
SUMMARY:St. Martin's High School Retreat
DESCRIPTION:Private Event \nChanco is pleased to have the opportunity to offer our famous hospitality of friendship\, love\, and spirit to St. Martin’s High School Retreat. \nWant to book your next event with us? Click here for more information or download your guest planning guide today. \nDownload Guest Planning Guide
URL:https://chanco.org/event/st-martins-high-school-retreat/
LOCATION:Chanco on the James\, 394 Floods Drive\, Spring Grove\, VA\, 23881\, United States
CATEGORIES:RETREATS
END:VEVENT
BEGIN:VEVENT
DTSTART;VALUE=DATE:20190412
DTEND;VALUE=DATE:20190415
DTSTAMP:20260421T014223
CREATED:20190401T092551Z
LAST-MODIFIED:20190401T092551Z
UID:28039-1555027200-1555286399@chanco.org
SUMMARY:St. Martin's High School Retreat
DESCRIPTION:Private Event \nChanco is pleased to have the opportunity to offer our famous hospitality of friendship\, love\, and spirit to St. Martin’s High School Retreat. \nWant to book your next event with us? Click here for more information or download your guest planning guide today. \nDownload Guest Planning Guide
URL:https://chanco.org/event/st-martins-high-school-retreat-3/
LOCATION:Chanco on the James\, 394 Floods Drive\, Spring Grove\, VA\, 23881\, United States
CATEGORIES:RETREATS
END:VEVENT
BEGIN:VEVENT
DTSTART;VALUE=DATE:20190412
DTEND;VALUE=DATE:20190414
DTSTAMP:20260421T014223
CREATED:20180122T133135Z
LAST-MODIFIED:20190218T113732Z
UID:24754-1555027200-1555199999@chanco.org
SUMMARY:Women's Retreat in Lent - Room at the Table
DESCRIPTION:Join women from all over the diocese at Chanco’s Semi-Annual Women’s Retreat. Come together with meaningful discussions\, spiritually renewing worship\,and fabulous fellowship. This event is open to women 18 years and older. \n \nThis years theme will be Room at the table where we will explore the mysteries of the last supper. \nEither come Friday and stay the night on the 12th or come just for the day on the 13th. \nPrices\nOvernight Shared Room- $110\nOvernight Single Room- $150\nDay Only- $40 \nOvernight Guests can plan to arrive between 7 and 8 PM with the program starting at 8 PM. \nOvernight participants are encouraged to bring a snack or beverage to share. Overnight participants will enjoy an omelet bar breakfast! \nDay only guest plan to arrive at 9AM on Saturday. \nOvernight and Day only guests will enjoy a light lunch and the afternoon tea. \nThe program will end at 4 PM on Saturday. \nRegister Now!\nAny issues or questions? Call us in the office at 7572943126 or email us at programs@chanco.org. \nFor questions\, please call 888-7CHANCO or email hospitality@chanco.org
URL:https://chanco.org/event/womens-lenten-retreat/
LOCATION:Chanco on the James\, 394 Floods Drive\, Spring Grove\, VA\, 23881\, United States
CATEGORIES:RETREATS
ORGANIZER;CN="Chanco on the James":MAILTO:hospitality@chanco.org
END:VEVENT
BEGIN:VEVENT
DTSTART;VALUE=DATE:20190412
DTEND;VALUE=DATE:20190414
DTSTAMP:20260421T014223
CREATED:20180122T133135Z
LAST-MODIFIED:20180122T133135Z
UID:28007-1555027200-1555199999@chanco.org
SUMMARY:Women's Retreat in Lent - Room at the Table
DESCRIPTION:Join women from all over the diocese at Chanco’s Semi-Annual Women’s Retreat. Come together with meaningful discussions\, spiritually renewing worship\,and fabulous fellowship. This event is open to women 18 years and older. \n \nThis years theme will be Room at the table where we will explore the mysteries of the last supper. \nEither come Friday and stay the night on the 12th or come just for the day on the 13th. \nPrices\nOvernight Shared Room- $110\nOvernight Single Room- $150\nDay Only- $40 \nOvernight Guests can plan to arrive between 7 and 8 PM with the program starting at 8 PM. \nOvernight participants are encouraged to bring a snack or beverage to share. Overnight participants will enjoy an omelet bar breakfast! \nDay only guest plan to arrive at 9AM on Saturday. \nOvernight and Day only guests will enjoy a light lunch and the afternoon tea. \nThe program will end at 4 PM on Saturday. \nRegister Now!\nAny issues or questions? Call us in the office at 7572943126 or email us at programs@chanco.org. \nFor questions\, please call 888-7CHANCO or email hospitality@chanco.org
URL:https://chanco.org/event/womens-lenten-retreat-2/
LOCATION:Chanco on the James\, 394 Floods Drive\, Spring Grove\, VA\, 23881\, United States
CATEGORIES:RETREATS
ORGANIZER;CN="Chanco on the James":MAILTO:hospitality@chanco.org
END:VEVENT
BEGIN:VEVENT
DTSTART;VALUE=DATE:20190405
DTEND;VALUE=DATE:20190408
DTSTAMP:20260421T014223
CREATED:20190401T092346Z
LAST-MODIFIED:20190401T092346Z
UID:28038-1554422400-1554681599@chanco.org
SUMMARY:Deacon's School
DESCRIPTION:Private Event \nChanco is pleased to have the opportunity to offer our famous hospitality of friendship\, love\, and spirit to the Deacon’s School event. Want to book your next event with us? \nClick here for more information or download your guest planning guide today. \nDownload Guest Planning Guide
URL:https://chanco.org/event/deacons-school-4/
LOCATION:Chanco on the James\, 394 Floods Drive\, Spring Grove\, VA\, 23881\, United States
CATEGORIES:RETREATS
END:VEVENT
BEGIN:VEVENT
DTSTART;VALUE=DATE:20190405
DTEND;VALUE=DATE:20190408
DTSTAMP:20260421T014223
CREATED:20190401T092346Z
LAST-MODIFIED:20190401T092346Z
UID:26216-1554422400-1554681599@chanco.org
SUMMARY:Deacon's School
DESCRIPTION:Private Event \nChanco is pleased to have the opportunity to offer our famous hospitality of friendship\, love\, and spirit to the Deacon’s School event. Want to book your next event with us? \nClick here for more information or download your guest planning guide today. \nDownload Guest Planning Guide
URL:https://chanco.org/event/deacons-school/
LOCATION:Chanco on the James\, 394 Floods Drive\, Spring Grove\, VA\, 23881\, United States
CATEGORIES:RETREATS
END:VEVENT
BEGIN:VEVENT
DTSTART;VALUE=DATE:20190404
DTEND;VALUE=DATE:20190406
DTSTAMP:20260421T014223
CREATED:20190401T092219Z
LAST-MODIFIED:20190401T092219Z
UID:26214-1554336000-1554508799@chanco.org
SUMMARY:Curriculum Retreat
DESCRIPTION:Private Event \nChanco is pleased to have the opportunity to offer our famous hospitality of friendship\, love\, and spirit to the Curriculum Retreat. \nWant to book your next event with us? Click here for more information or download your guest planning guide today. \nDownload Guest Planning Guide
URL:https://chanco.org/event/curriculum-retreat/
LOCATION:Chanco on the James\, 394 Floods Drive\, Spring Grove\, VA\, 23881\, United States
CATEGORIES:RETREATS
END:VEVENT
BEGIN:VEVENT
DTSTART;VALUE=DATE:20190404
DTEND;VALUE=DATE:20190406
DTSTAMP:20260421T014223
CREATED:20190401T092219Z
LAST-MODIFIED:20190401T092219Z
UID:28037-1554336000-1554508799@chanco.org
SUMMARY:Curriculum Retreat
DESCRIPTION:Private Event \nChanco is pleased to have the opportunity to offer our famous hospitality of friendship\, love\, and spirit to the Curriculum Retreat. \nWant to book your next event with us? Click here for more information or download your guest planning guide today. \nDownload Guest Planning Guide
URL:https://chanco.org/event/curriculum-retreat-2/
LOCATION:Chanco on the James\, 394 Floods Drive\, Spring Grove\, VA\, 23881\, United States
CATEGORIES:RETREATS
END:VEVENT
BEGIN:VEVENT
DTSTART;TZID=America/Halifax:20190330T130000
DTEND;TZID=America/Halifax:20190330T170000
DTSTAMP:20260421T014223
CREATED:20180308T125403Z
LAST-MODIFIED:20190218T112835Z
UID:25140-1553950800-1553965200@chanco.org
SUMMARY:Chanco Open House - March
DESCRIPTION:Come see what all the fuss is about! Our open house is a perfect way to see if summer camp at Chanco is a fit for you! Come meet some counselors\, tour our beautiful grounds\, munch on some free hot dogs\, and test your fear of heights on our superman swing! \n \nDate: Saturday\, March 30th\nOpen from 1-5 PM  \nThis is a free event open to the public! so tell your friends!
URL:https://chanco.org/event/chanco-open-house-march-2019/
LOCATION:Chanco on the James\, 394 Floods Drive\, Spring Grove\, VA\, 23881\, United States
CATEGORIES:EVENTS
ORGANIZER;CN="Chanco on the James":MAILTO:hospitality@chanco.org
END:VEVENT
BEGIN:VEVENT
DTSTART;TZID=America/Halifax:20190330T130000
DTEND;TZID=America/Halifax:20190330T170000
DTSTAMP:20260421T014223
CREATED:20180308T125403Z
LAST-MODIFIED:20180308T125403Z
UID:28009-1553950800-1553965200@chanco.org
SUMMARY:Chanco Open House - March
DESCRIPTION:Come see what all the fuss is about! Our open house is a perfect way to see if summer camp at Chanco is a fit for you! Come meet some counselors\, tour our beautiful grounds\, munch on some free hot dogs\, and test your fear of heights on our superman swing! \n \nDate: Saturday\, March 30th\nOpen from 1-5 PM  \nThis is a free event open to the public! so tell your friends!
URL:https://chanco.org/event/chanco-open-house-march-2019-2/
LOCATION:Chanco on the James\, 394 Floods Drive\, Spring Grove\, VA\, 23881\, United States
CATEGORIES:EVENTS
ORGANIZER;CN="Chanco on the James":MAILTO:hospitality@chanco.org
END:VEVENT
BEGIN:VEVENT
DTSTART;VALUE=DATE:20190329
DTEND;VALUE=DATE:20190331
DTSTAMP:20260421T014223
CREATED:20190218T120216Z
LAST-MODIFIED:20190218T120235Z
UID:26179-1553817600-1553990399@chanco.org
SUMMARY:St. Gile's Women's Retreat
DESCRIPTION:Private Event \nChanco is pleased to have the opportunity to offer our famous hospitality of friendship\, love\, and spirit to St. Gile’s Women’s Retreat. \nWant to book your next event with us? Click here for more information or download your guest planning guide today. \nDownload Guest Planning Guide
URL:https://chanco.org/event/st-giles-womens-retreat/
LOCATION:Chanco on the James\, 394 Floods Drive\, Spring Grove\, VA\, 23881\, United States
CATEGORIES:EVENTS
END:VEVENT
BEGIN:VEVENT
DTSTART;VALUE=DATE:20190329
DTEND;VALUE=DATE:20190331
DTSTAMP:20260421T014223
CREATED:20190218T120216Z
LAST-MODIFIED:20190218T120216Z
UID:28034-1553817600-1553990399@chanco.org
SUMMARY:St. Gile's Women's Retreat
DESCRIPTION:Private Event \nChanco is pleased to have the opportunity to offer our famous hospitality of friendship\, love\, and spirit to St. Gile’s Women’s Retreat. \nWant to book your next event with us? Click here for more information or download your guest planning guide today. \nDownload Guest Planning Guide
URL:https://chanco.org/event/st-giles-womens-retreat-2/
LOCATION:Chanco on the James\, 394 Floods Drive\, Spring Grove\, VA\, 23881\, United States
CATEGORIES:EVENTS
END:VEVENT
BEGIN:VEVENT
DTSTART;VALUE=DATE:20190322
DTEND;VALUE=DATE:20190325
DTSTAMP:20260421T014223
CREATED:20190218T120036Z
LAST-MODIFIED:20190218T120117Z
UID:26175-1553212800-1553471999@chanco.org
SUMMARY:Armstrong Leadership Training
DESCRIPTION:Private Event \nChanco is pleased to have the opportunity to offer our famous hospitality of friendship\, love\, and spirit to the Armstrong Leadership Program. \nWant to book your next event with us? Click here for more information or download your guest planning guide today. \nDownload Guest Planning Guide
URL:https://chanco.org/event/armstrong-leadership-training/
LOCATION:Chanco on the James\, 394 Floods Drive\, Spring Grove\, VA\, 23881\, United States
CATEGORIES:EVENTS
END:VEVENT
BEGIN:VEVENT
DTSTART;VALUE=DATE:20190322
DTEND;VALUE=DATE:20190325
DTSTAMP:20260421T014223
CREATED:20190218T120036Z
LAST-MODIFIED:20190218T120036Z
UID:28033-1553212800-1553471999@chanco.org
SUMMARY:Armstrong Leadership Training
DESCRIPTION:Private Event \nChanco is pleased to have the opportunity to offer our famous hospitality of friendship\, love\, and spirit to the Armstrong Leadership Program. \nWant to book your next event with us? Click here for more information or download your guest planning guide today. \nDownload Guest Planning Guide
URL:https://chanco.org/event/armstrong-leadership-training-2/
LOCATION:Chanco on the James\, 394 Floods Drive\, Spring Grove\, VA\, 23881\, United States
CATEGORIES:EVENTS
END:VEVENT
BEGIN:VEVENT
DTSTART;VALUE=DATE:20190322
DTEND;VALUE=DATE:20190325
DTSTAMP:20260421T014223
CREATED:20190209T114239Z
LAST-MODIFIED:20190209T114239Z
UID:28028-1553212800-1553471999@chanco.org
SUMMARY:Christ the King 8th Grade Retreat
DESCRIPTION:Private Event \nChanco is pleased to have the opportunity to offer our famous hospitality of friendship\, love\, and spirit to Christ the King’s 8th Grade Retreat. \nWant to book your next event with us? Click here for more information or download your guest planning guide today. \nDownload Guest Planning Guide
URL:https://chanco.org/event/christ-the-king-8th-grade-retreat-2/
LOCATION:Chanco on the James\, 394 Floods Drive\, Spring Grove\, VA\, 23881\, United States
CATEGORIES:EVENTS
END:VEVENT
BEGIN:VEVENT
DTSTART;VALUE=DATE:20190322
DTEND;VALUE=DATE:20190325
DTSTAMP:20260421T014223
CREATED:20190209T114239Z
LAST-MODIFIED:20190218T115921Z
UID:26140-1553212800-1553471999@chanco.org
SUMMARY:Christ the King 8th Grade Retreat
DESCRIPTION:Private Event \nChanco is pleased to have the opportunity to offer our famous hospitality of friendship\, love\, and spirit to Christ the King’s 8th Grade Retreat. \nWant to book your next event with us? Click here for more information or download your guest planning guide today. \nDownload Guest Planning Guide
URL:https://chanco.org/event/christ-the-king-8th-grade-retreat/
LOCATION:Chanco on the James\, 394 Floods Drive\, Spring Grove\, VA\, 23881\, United States
CATEGORIES:EVENTS
END:VEVENT
BEGIN:VEVENT
DTSTART;VALUE=DATE:20190315
DTEND;VALUE=DATE:20190318
DTSTAMP:20260421T014223
CREATED:20190218T115743Z
LAST-MODIFIED:20190218T115743Z
UID:26172-1552608000-1552867199@chanco.org
SUMMARY:Happening
DESCRIPTION:
URL:https://chanco.org/event/happening/
LOCATION:Chanco on the James\, 394 Floods Drive\, Spring Grove\, VA\, 23881\, United States
CATEGORIES:RETREATS
END:VEVENT
BEGIN:VEVENT
DTSTART;VALUE=DATE:20190315
DTEND;VALUE=DATE:20190318
DTSTAMP:20260421T014223
CREATED:20190218T115743Z
LAST-MODIFIED:20190218T115743Z
UID:28032-1552608000-1552867199@chanco.org
SUMMARY:Happening
DESCRIPTION:
URL:https://chanco.org/event/happening-2/
LOCATION:Chanco on the James\, 394 Floods Drive\, Spring Grove\, VA\, 23881\, United States
CATEGORIES:RETREATS
END:VEVENT
END:VCALENDAR