BEGIN:VCALENDAR
VERSION:2.0
PRODID:-//Chanco on the James - ECPv6.15.15//NONSGML v1.0//EN
CALSCALE:GREGORIAN
METHOD:PUBLISH
X-WR-CALNAME:Chanco on the James
X-ORIGINAL-URL:https://chanco.org
X-WR-CALDESC:Events for Chanco on the James
REFRESH-INTERVAL;VALUE=DURATION:PT1H
X-Robots-Tag:noindex
X-PUBLISHED-TTL:PT1H
BEGIN:VTIMEZONE
TZID:America/Halifax
BEGIN:DAYLIGHT
TZOFFSETFROM:-0400
TZOFFSETTO:-0300
TZNAME:ADT
DTSTART:20160313T060000
END:DAYLIGHT
BEGIN:STANDARD
TZOFFSETFROM:-0300
TZOFFSETTO:-0400
TZNAME:AST
DTSTART:20161106T050000
END:STANDARD
BEGIN:DAYLIGHT
TZOFFSETFROM:-0400
TZOFFSETTO:-0300
TZNAME:ADT
DTSTART:20170312T060000
END:DAYLIGHT
BEGIN:STANDARD
TZOFFSETFROM:-0300
TZOFFSETTO:-0400
TZNAME:AST
DTSTART:20171105T050000
END:STANDARD
BEGIN:DAYLIGHT
TZOFFSETFROM:-0400
TZOFFSETTO:-0300
TZNAME:ADT
DTSTART:20180311T060000
END:DAYLIGHT
BEGIN:STANDARD
TZOFFSETFROM:-0300
TZOFFSETTO:-0400
TZNAME:AST
DTSTART:20181104T050000
END:STANDARD
END:VTIMEZONE
BEGIN:VEVENT
DTSTART;VALUE=DATE:20171028
DTEND;VALUE=DATE:20171029
DTSTAMP:20260425T080050
CREATED:20171009T102254Z
LAST-MODIFIED:20171009T102254Z
UID:27999-1509148800-1509235199@chanco.org
SUMMARY:Pre Happening Fall 2017
DESCRIPTION:
URL:https://chanco.org/event/pre-happening-fall-2017-2/
LOCATION:VA
CATEGORIES:EVENTS
END:VEVENT
BEGIN:VEVENT
DTSTART;VALUE=DATE:20171028
DTEND;VALUE=DATE:20171029
DTSTAMP:20260425T080050
CREATED:20171009T102254Z
LAST-MODIFIED:20171009T102254Z
UID:7850-1509148800-1509235199@chanco.org
SUMMARY:Pre Happening Fall 2017
DESCRIPTION:
URL:https://chanco.org/event/pre-happening-fall-2017/
LOCATION:VA
CATEGORIES:EVENTS
END:VEVENT
BEGIN:VEVENT
DTSTART;TZID=America/Halifax:20171021T120000
DTEND;TZID=America/Halifax:20171021T170000
DTSTAMP:20260425T080050
CREATED:20171009T101951Z
LAST-MODIFIED:20171009T101951Z
UID:27998-1508587200-1508605200@chanco.org
SUMMARY:Cursillo of DIOSova 4th Day
DESCRIPTION:
URL:https://chanco.org/event/cursillo-of-diosova-4th-day-2/
LOCATION:VA
CATEGORIES:EVENTS
END:VEVENT
BEGIN:VEVENT
DTSTART;TZID=America/Halifax:20171021T120000
DTEND;TZID=America/Halifax:20171021T170000
DTSTAMP:20260425T080050
CREATED:20171009T101951Z
LAST-MODIFIED:20171009T101951Z
UID:7848-1508587200-1508605200@chanco.org
SUMMARY:Cursillo of DIOSova 4th Day
DESCRIPTION:
URL:https://chanco.org/event/cursillo-of-diosova-4th-day/
LOCATION:VA
CATEGORIES:EVENTS
END:VEVENT
BEGIN:VEVENT
DTSTART;VALUE=DATE:20170930
DTEND;VALUE=DATE:20171001
DTSTAMP:20260425T080050
CREATED:20170921T112426Z
LAST-MODIFIED:20170921T112426Z
UID:7809-1506729600-1506815999@chanco.org
SUMMARY:Private Event: St. Paul's Episcopal Church Norfolk
DESCRIPTION:St. Paul’s Youth Service Project
URL:https://chanco.org/event/private-event-st-pauls-episcopal-church-norfolk/
LOCATION:VA
END:VEVENT
BEGIN:VEVENT
DTSTART;VALUE=DATE:20170930
DTEND;VALUE=DATE:20171001
DTSTAMP:20260425T080050
CREATED:20170921T112426Z
LAST-MODIFIED:20170921T112426Z
UID:27995-1506729600-1506815999@chanco.org
SUMMARY:Private Event: St. Paul's Episcopal Church Norfolk
DESCRIPTION:St. Paul’s Youth Service Project
URL:https://chanco.org/event/private-event-st-pauls-episcopal-church-norfolk-2/
LOCATION:VA
END:VEVENT
BEGIN:VEVENT
DTSTART;VALUE=DATE:20170928
DTEND;VALUE=DATE:20171002
DTSTAMP:20260425T080050
CREATED:20170921T111750Z
LAST-MODIFIED:20170921T111750Z
UID:7803-1506556800-1506902399@chanco.org
SUMMARY:Cursillo DIOSova #163
DESCRIPTION:
URL:https://chanco.org/event/cursillo-diosova-163/
LOCATION:Chanco on the James\, 394 Floods Drive\, Spring Grove\, VA\, 23881\, United States
END:VEVENT
BEGIN:VEVENT
DTSTART;VALUE=DATE:20170928
DTEND;VALUE=DATE:20171002
DTSTAMP:20260425T080050
CREATED:20170921T111750Z
LAST-MODIFIED:20170921T111750Z
UID:27992-1506556800-1506902399@chanco.org
SUMMARY:Cursillo DIOSova #163
DESCRIPTION:
URL:https://chanco.org/event/cursillo-diosova-163-2/
LOCATION:Chanco on the James\, 394 Floods Drive\, Spring Grove\, VA\, 23881\, United States
END:VEVENT
BEGIN:VEVENT
DTSTART;VALUE=DATE:20170924
DTEND;VALUE=DATE:20170925
DTSTAMP:20260425T080050
CREATED:20170921T112033Z
LAST-MODIFIED:20170921T112033Z
UID:7805-1506211200-1506297599@chanco.org
SUMMARY:Capital Campaign Meeting
DESCRIPTION:Hospitality: Talley Banazek
URL:https://chanco.org/event/capital-campaign-meeting/
LOCATION:VA
END:VEVENT
BEGIN:VEVENT
DTSTART;VALUE=DATE:20170924
DTEND;VALUE=DATE:20170925
DTSTAMP:20260425T080050
CREATED:20170921T112033Z
LAST-MODIFIED:20170921T112033Z
UID:27993-1506211200-1506297599@chanco.org
SUMMARY:Capital Campaign Meeting
DESCRIPTION:Hospitality: Talley Banazek
URL:https://chanco.org/event/capital-campaign-meeting-2/
LOCATION:VA
END:VEVENT
BEGIN:VEVENT
DTSTART;VALUE=DATE:20170922
DTEND;VALUE=DATE:20170925
DTSTAMP:20260425T080050
CREATED:20170921T112130Z
LAST-MODIFIED:20170921T112130Z
UID:7807-1506038400-1506297599@chanco.org
SUMMARY:Private Retreat: St. Matthias Episcopal Church
DESCRIPTION:St. Matthias Parish Retreat
URL:https://chanco.org/event/private-retreat-st-matthias-episcopal-church/
LOCATION:VA
END:VEVENT
BEGIN:VEVENT
DTSTART;VALUE=DATE:20170922
DTEND;VALUE=DATE:20170925
DTSTAMP:20260425T080050
CREATED:20170921T112130Z
LAST-MODIFIED:20170921T112130Z
UID:27994-1506038400-1506297599@chanco.org
SUMMARY:Private Retreat: St. Matthias Episcopal Church
DESCRIPTION:St. Matthias Parish Retreat
URL:https://chanco.org/event/private-retreat-st-matthias-episcopal-church-2/
LOCATION:VA
END:VEVENT
BEGIN:VEVENT
DTSTART;VALUE=DATE:20170813
DTEND;VALUE=DATE:20170819
DTSTAMP:20260425T080050
CREATED:20170623T091219Z
LAST-MODIFIED:20170623T091219Z
UID:764-1502582400-1503100799@chanco.org
SUMMARY:Camp Chanco High School Week
DESCRIPTION:
URL:https://chanco.org/event/camp-chanco-high-school-week/
LOCATION:Chanco on the James\, 394 Floods Drive\, Spring Grove\, VA\, 23881\, United States
CATEGORIES:CAMPS
ORGANIZER;CN="Chanco on the James":MAILTO:hospitality@chanco.org
END:VEVENT
BEGIN:VEVENT
DTSTART;VALUE=DATE:20170813
DTEND;VALUE=DATE:20170819
DTSTAMP:20260425T080050
CREATED:20170623T091219Z
LAST-MODIFIED:20170623T091219Z
UID:27990-1502582400-1503100799@chanco.org
SUMMARY:Camp Chanco High School Week
DESCRIPTION:
URL:https://chanco.org/event/camp-chanco-high-school-week-2/
LOCATION:Chanco on the James\, 394 Floods Drive\, Spring Grove\, VA\, 23881\, United States
CATEGORIES:CAMPS
ORGANIZER;CN="Chanco on the James":MAILTO:hospitality@chanco.org
END:VEVENT
BEGIN:VEVENT
DTSTART;VALUE=DATE:20170730
DTEND;VALUE=DATE:20170812
DTSTAMP:20260425T080050
CREATED:20170623T090819Z
LAST-MODIFIED:20170623T090819Z
UID:762-1501372800-1502495999@chanco.org
SUMMARY:Camp Chanco Session 4
DESCRIPTION:
URL:https://chanco.org/event/camp-chanco-session-4/
LOCATION:Chanco on the James\, 394 Floods Drive\, Spring Grove\, VA\, 23881\, United States
CATEGORIES:CAMPS
ORGANIZER;CN="Chanco on the James":MAILTO:hospitality@chanco.org
END:VEVENT
BEGIN:VEVENT
DTSTART;VALUE=DATE:20170730
DTEND;VALUE=DATE:20170812
DTSTAMP:20260425T080050
CREATED:20170623T090819Z
LAST-MODIFIED:20170623T090819Z
UID:27989-1501372800-1502495999@chanco.org
SUMMARY:Camp Chanco Session 4
DESCRIPTION:
URL:https://chanco.org/event/camp-chanco-session-4-2/
LOCATION:Chanco on the James\, 394 Floods Drive\, Spring Grove\, VA\, 23881\, United States
CATEGORIES:CAMPS
ORGANIZER;CN="Chanco on the James":MAILTO:hospitality@chanco.org
END:VEVENT
BEGIN:VEVENT
DTSTART;VALUE=DATE:20170723
DTEND;VALUE=DATE:20170729
DTSTAMP:20260425T080050
CREATED:20170623T090619Z
LAST-MODIFIED:20170623T090619Z
UID:760-1500768000-1501286399@chanco.org
SUMMARY:Camp Chanco Ropes Camp
DESCRIPTION:
URL:https://chanco.org/event/camp-chanco-ropes-camp/
LOCATION:Chanco on the James\, 394 Floods Drive\, Spring Grove\, VA\, 23881\, United States
CATEGORIES:CAMPS
ORGANIZER;CN="Chanco on the James":MAILTO:hospitality@chanco.org
END:VEVENT
BEGIN:VEVENT
DTSTART;VALUE=DATE:20170723
DTEND;VALUE=DATE:20170729
DTSTAMP:20260425T080050
CREATED:20170623T090619Z
LAST-MODIFIED:20170623T090619Z
UID:27988-1500768000-1501286399@chanco.org
SUMMARY:Camp Chanco Ropes Camp
DESCRIPTION:
URL:https://chanco.org/event/camp-chanco-ropes-camp-2/
LOCATION:Chanco on the James\, 394 Floods Drive\, Spring Grove\, VA\, 23881\, United States
CATEGORIES:CAMPS
ORGANIZER;CN="Chanco on the James":MAILTO:hospitality@chanco.org
END:VEVENT
BEGIN:VEVENT
DTSTART;VALUE=DATE:20170716
DTEND;VALUE=DATE:20170729
DTSTAMP:20260425T080050
CREATED:20170623T090340Z
LAST-MODIFIED:20170623T090340Z
UID:27987-1500163200-1501286399@chanco.org
SUMMARY:Camp Chanco Session 3
DESCRIPTION:
URL:https://chanco.org/event/camp-chanco-session-3-2/
LOCATION:Chanco on the James\, 394 Floods Drive\, Spring Grove\, VA\, 23881\, United States
CATEGORIES:CAMPS
ORGANIZER;CN="Chanco on the James":MAILTO:hospitality@chanco.org
END:VEVENT
BEGIN:VEVENT
DTSTART;VALUE=DATE:20170716
DTEND;VALUE=DATE:20170729
DTSTAMP:20260425T080050
CREATED:20170623T090340Z
LAST-MODIFIED:20170623T090340Z
UID:758-1500163200-1501286399@chanco.org
SUMMARY:Camp Chanco Session 3
DESCRIPTION:
URL:https://chanco.org/event/camp-chanco-session-3/
LOCATION:Chanco on the James\, 394 Floods Drive\, Spring Grove\, VA\, 23881\, United States
CATEGORIES:CAMPS
ORGANIZER;CN="Chanco on the James":MAILTO:hospitality@chanco.org
END:VEVENT
BEGIN:VEVENT
DTSTART;VALUE=DATE:20170625
DTEND;VALUE=DATE:20170701
DTSTAMP:20260425T080050
CREATED:20170609T105755Z
LAST-MODIFIED:20170609T105755Z
UID:146-1498348800-1498867199@chanco.org
SUMMARY:Camp Chanco Session 1
DESCRIPTION:
URL:https://chanco.org/event/camp-chanco-session-1/
LOCATION:Chanco on the James\, 394 Floods Drive\, Spring Grove\, VA\, 23881\, United States
CATEGORIES:CAMPS
END:VEVENT
BEGIN:VEVENT
DTSTART;VALUE=DATE:20170625
DTEND;VALUE=DATE:20170701
DTSTAMP:20260425T080050
CREATED:20170609T105755Z
LAST-MODIFIED:20170609T105755Z
UID:27985-1498348800-1498867199@chanco.org
SUMMARY:Camp Chanco Session 1
DESCRIPTION:
URL:https://chanco.org/event/camp-chanco-session-1-2/
LOCATION:Chanco on the James\, 394 Floods Drive\, Spring Grove\, VA\, 23881\, United States
CATEGORIES:CAMPS
END:VEVENT
END:VCALENDAR