BEGIN:VCALENDAR
VERSION:2.0
PRODID:-//Chanco on the James - ECPv6.15.15//NONSGML v1.0//EN
CALSCALE:GREGORIAN
METHOD:PUBLISH
X-WR-CALNAME:Chanco on the James
X-ORIGINAL-URL:https://chanco.org
X-WR-CALDESC:Events for Chanco on the James
REFRESH-INTERVAL;VALUE=DURATION:PT1H
X-Robots-Tag:noindex
X-PUBLISHED-TTL:PT1H
BEGIN:VTIMEZONE
TZID:America/Halifax
BEGIN:DAYLIGHT
TZOFFSETFROM:-0400
TZOFFSETTO:-0300
TZNAME:ADT
DTSTART:20160313T060000
END:DAYLIGHT
BEGIN:STANDARD
TZOFFSETFROM:-0300
TZOFFSETTO:-0400
TZNAME:AST
DTSTART:20161106T050000
END:STANDARD
BEGIN:DAYLIGHT
TZOFFSETFROM:-0400
TZOFFSETTO:-0300
TZNAME:ADT
DTSTART:20170312T060000
END:DAYLIGHT
BEGIN:STANDARD
TZOFFSETFROM:-0300
TZOFFSETTO:-0400
TZNAME:AST
DTSTART:20171105T050000
END:STANDARD
BEGIN:DAYLIGHT
TZOFFSETFROM:-0400
TZOFFSETTO:-0300
TZNAME:ADT
DTSTART:20180311T060000
END:DAYLIGHT
BEGIN:STANDARD
TZOFFSETFROM:-0300
TZOFFSETTO:-0400
TZNAME:AST
DTSTART:20181104T050000
END:STANDARD
END:VTIMEZONE
BEGIN:VEVENT
DTSTART;VALUE=DATE:20170625
DTEND;VALUE=DATE:20170701
DTSTAMP:20260425T094020
CREATED:20170609T105755Z
LAST-MODIFIED:20170609T105755Z
UID:146-1498348800-1498867199@chanco.org
SUMMARY:Camp Chanco Session 1
DESCRIPTION:
URL:https://chanco.org/event/camp-chanco-session-1/
LOCATION:Chanco on the James\, 394 Floods Drive\, Spring Grove\, VA\, 23881\, United States
CATEGORIES:CAMPS
END:VEVENT
BEGIN:VEVENT
DTSTART;VALUE=DATE:20170625
DTEND;VALUE=DATE:20170701
DTSTAMP:20260425T094020
CREATED:20170609T105755Z
LAST-MODIFIED:20170609T105755Z
UID:27985-1498348800-1498867199@chanco.org
SUMMARY:Camp Chanco Session 1
DESCRIPTION:
URL:https://chanco.org/event/camp-chanco-session-1-2/
LOCATION:Chanco on the James\, 394 Floods Drive\, Spring Grove\, VA\, 23881\, United States
CATEGORIES:CAMPS
END:VEVENT
END:VCALENDAR