BEGIN:VCALENDAR
VERSION:2.0
PRODID:-//Chanco on the James - ECPv6.15.15//NONSGML v1.0//EN
CALSCALE:GREGORIAN
METHOD:PUBLISH
X-WR-CALNAME:Chanco on the James
X-ORIGINAL-URL:https://chanco.org
X-WR-CALDESC:Events for Chanco on the James
REFRESH-INTERVAL;VALUE=DURATION:PT1H
X-Robots-Tag:noindex
X-PUBLISHED-TTL:PT1H
BEGIN:VTIMEZONE
TZID:America/New_York
BEGIN:DAYLIGHT
TZOFFSETFROM:-0500
TZOFFSETTO:-0400
TZNAME:EDT
DTSTART:20240310T070000
END:DAYLIGHT
BEGIN:STANDARD
TZOFFSETFROM:-0400
TZOFFSETTO:-0500
TZNAME:EST
DTSTART:20241103T060000
END:STANDARD
BEGIN:DAYLIGHT
TZOFFSETFROM:-0500
TZOFFSETTO:-0400
TZNAME:EDT
DTSTART:20250309T070000
END:DAYLIGHT
BEGIN:STANDARD
TZOFFSETFROM:-0400
TZOFFSETTO:-0500
TZNAME:EST
DTSTART:20251102T060000
END:STANDARD
BEGIN:DAYLIGHT
TZOFFSETFROM:-0500
TZOFFSETTO:-0400
TZNAME:EDT
DTSTART:20260308T070000
END:DAYLIGHT
BEGIN:STANDARD
TZOFFSETFROM:-0400
TZOFFSETTO:-0500
TZNAME:EST
DTSTART:20261101T060000
END:STANDARD
END:VTIMEZONE
BEGIN:VEVENT
DTSTART;TZID=America/New_York:20250905T080000
DTEND;TZID=America/New_York:20250907T170000
DTSTAMP:20260424T043417
CREATED:20250813T183449Z
LAST-MODIFIED:20250813T183449Z
UID:32832-1757059200-1757264400@chanco.org
SUMMARY:Catholic Campus Ministry Fall Retreat
DESCRIPTION:PRIVATE EVENT \nChanco is pleased to have the opportunity to offer our famous hospitality of friendship\, love\, and spirit. \nWant to book your next event with us? \nDownload Our Guest Planning Guide
URL:https://chanco.org/event/catholic-campus-ministry-fall-retreat-4/
LOCATION:Chanco on the James\, 394 Floods Drive\, Spring Grove\, VA\, 23881\, United States
CATEGORIES:PRIVATE,RETREATS
ORGANIZER;CN="Chanco on the James":MAILTO:hospitality@chanco.org
END:VEVENT
BEGIN:VEVENT
DTSTART;VALUE=DATE:20250906
DTEND;VALUE=DATE:20250907
DTSTAMP:20260424T043417
CREATED:20250813T183516Z
LAST-MODIFIED:20250813T183516Z
UID:32834-1757116800-1757203199@chanco.org
SUMMARY:Cursillo Team Meeting
DESCRIPTION:PRIVATE EVENT \nChanco is pleased to have the opportunity to offer our famous hospitality of friendship\, love\, and spirit. \nWant to book your next event with us? \nDownload Our Guest Planning Guide
URL:https://chanco.org/event/cursillo-team-meeting-6/
LOCATION:Chanco on the James\, 394 Floods Drive\, Spring Grove\, VA\, 23881\, United States
CATEGORIES:EVENTS,PRIVATE
ORGANIZER;CN="Chanco on the James":MAILTO:hospitality@chanco.org
END:VEVENT
BEGIN:VEVENT
DTSTART;VALUE=DATE:20250912
DTEND;VALUE=DATE:20250915
DTSTAMP:20260424T043417
CREATED:20250826T135130Z
LAST-MODIFIED:20250826T135310Z
UID:32912-1757635200-1757894399@chanco.org
SUMMARY:McGlamery Scrapbooking Hens
DESCRIPTION:PRIVATE EVENT \nChanco is pleased to have the opportunity to offer our famous hospitality of friendship\, love\, and spirit. \nWant to book your next event with us?   Download Our Guest Planning Guide
URL:https://chanco.org/event/mcglamery-scrapbooking-hens-4/
LOCATION:Chanco on the James\, 394 Floods Drive\, Spring Grove\, VA\, 23881\, United States
CATEGORIES:EVENTS,PRIVATE
ORGANIZER;CN="Chanco on the James":MAILTO:hospitality@chanco.org
END:VEVENT
BEGIN:VEVENT
DTSTART;TZID=America/New_York:20250912T080000
DTEND;TZID=America/New_York:20250914T170000
DTSTAMP:20260424T043417
CREATED:20250813T183553Z
LAST-MODIFIED:20250813T183553Z
UID:32836-1757664000-1757869200@chanco.org
SUMMARY:St. Andrew's Fall Retreat
DESCRIPTION:PRIVATE EVENT \nChanco is pleased to have the opportunity to offer our famous hospitality of friendship\, love\, and spirit. \nWant to book your next event with us? \nDownload Our Guest Planning Guide
URL:https://chanco.org/event/st-andrews-fall-retreat-2/
LOCATION:Chanco on the James\, 394 Floods Drive\, Spring Grove\, VA\, 23881\, United States
CATEGORIES:PRIVATE,RETREATS
ORGANIZER;CN="Chanco on the James":MAILTO:hospitality@chanco.org
END:VEVENT
BEGIN:VEVENT
DTSTART;TZID=America/New_York:20250918T080000
DTEND;TZID=America/New_York:20250920T170000
DTSTAMP:20260424T043417
CREATED:20250813T183712Z
LAST-MODIFIED:20250813T183712Z
UID:32840-1758182400-1758387600@chanco.org
SUMMARY:DCDI Cycle 2 Weekend #3
DESCRIPTION:PRIVATE EVENT \nChanco is pleased to have the opportunity to offer our famous hospitality of friendship\, love\, and spirit. \nWant to book your next event with us? \nDownload Our Guest Planning Guide
URL:https://chanco.org/event/dcdi-cycle-2-weekend-3-2/
LOCATION:Chanco on the James\, 394 Floods Drive\, Spring Grove\, VA\, 23881\, United States
CATEGORIES:PRIVATE,RETREATS
ORGANIZER;CN="Chanco on the James":MAILTO:hospitality@chanco.org
END:VEVENT
BEGIN:VEVENT
DTSTART;TZID=America/New_York:20250920T000000
DTEND;TZID=America/New_York:20250921T235900
DTSTAMP:20260424T043417
CREATED:20250813T183622Z
LAST-MODIFIED:20250813T183635Z
UID:32838-1758326400-1758499140@chanco.org
SUMMARY:BoyScout Outing
DESCRIPTION:PRIVATE EVENT \nChanco is pleased to have the opportunity to offer our famous hospitality of friendship\, love\, and spirit. \nWant to book your next event with us? \nDownload Our Guest Planning Guide
URL:https://chanco.org/event/boyscout-outing/
LOCATION:Chanco on the James\, 394 Floods Drive\, Spring Grove\, VA\, 23881\, United States
CATEGORIES:EVENTS,PRIVATE
ORGANIZER;CN="Chanco on the James":MAILTO:hospitality@chanco.org
END:VEVENT
BEGIN:VEVENT
DTSTART;TZID=America/New_York:20250926T080000
DTEND;TZID=America/New_York:20250928T170000
DTSTAMP:20260424T043417
CREATED:20250904T150031Z
LAST-MODIFIED:20250904T150031Z
UID:32929-1758873600-1759078800@chanco.org
SUMMARY:Men's Walk R #144
DESCRIPTION:PRIVATE EVENT \nChanco is pleased to have the opportunity to offer our famous hospitality of friendship\, love\, and spirit. \nWant to book your next event with us? \nDownload Our Guest Planning Guide
URL:https://chanco.org/event/mens-walk-r-144/
LOCATION:Chanco on the James\, 394 Floods Drive\, Spring Grove\, VA\, 23881\, United States
CATEGORIES:EVENTS,PRIVATE
ORGANIZER;CN="Chanco on the James":MAILTO:hospitality@chanco.org
END:VEVENT
END:VCALENDAR